BEGIN:VCALENDAR
VERSION:2.0
PRODID:-//vozandante.com - ECPv6.15.20//NONSGML v1.0//EN
CALSCALE:GREGORIAN
METHOD:PUBLISH
X-ORIGINAL-URL:https://vozandante.com
X-WR-CALDESC:Eventos para vozandante.com
REFRESH-INTERVAL;VALUE=DURATION:PT1H
X-Robots-Tag:noindex
X-PUBLISHED-TTL:PT1H
BEGIN:VTIMEZONE
TZID:UTC
BEGIN:STANDARD
TZOFFSETFROM:+0000
TZOFFSETTO:+0000
TZNAME:UTC
DTSTART:20250101T000000
END:STANDARD
END:VTIMEZONE
BEGIN:VEVENT
DTSTART;TZID=UTC:20260427T090000
DTEND;TZID=UTC:20260427T130000
DTSTAMP:20260422T184422
CREATED:20260419T163900Z
LAST-MODIFIED:20260419T190550Z
UID:2634-1777280400-1777294800@vozandante.com
SUMMARY:Scouting Ciudad Universitaria 20260427
DESCRIPTION:En Ciudad Universitaria los murales hablan de historia\, arte\, ciencia y deporte. Ven a escucharlos con nosotros \nExpositora: Dra. en Historia Carmen Espinosa V. \nPunto de encuentro. Banderas frente al estadio de Ciudad Universitaria. \nLunes 27 de abril de 2026\, 9 AM cdmx\, duración aproximada\, cuatro horas. \nMayores informes y reservaciones: WhatsApp. 5520954924\, correo electrónico: vozandante@gmail.com y coordinacion@vozandante.com. \nPreinscripción en https://forms.gle/Cu1Jg9d4k9FDTA7t6 \nPágina del evento: \nInversión: $500.00. \nCUPO LIMITADO \nPreinscripción: https://forms.gle/Cu1Jg9d4k9FDTA7t6 \nFormas de pago\, aviso de privacidad y políticas de cancelación aquí:  https://vozandante.com/formas-de-pago-politicas-de-cancelacion-y-politica-de-privacidad/ \nHaz click para puntuar este evento\n                                   \n                               [Total: 0  Average: 0]
URL:https://vozandante.com/event/scouting-ciudad-universitaria-20260427/
LOCATION:Ciudad Universitaria
CATEGORIES:Scouting,Vozando Turismo
ATTACH;FMTTYPE=image/jpeg:https://vozandante.com/wp-content/uploads/2026/04/Scouting-CiudadUniversitaria-20260427.jpg
END:VEVENT
END:VCALENDAR